BEGIN:VCALENDAR
VERSION:2.0
PRODID:-//Plone.org//NONSGML plone.app.event//EN
X-WR-TIMEZONE:Europe/Berlin
BEGIN:VEVENT
SUMMARY:Physikerinnen*-Brunch (w/d)
DTSTART;TZID=Europe/Berlin:20250430T120000
DTEND;TZID=Europe/Berlin:20250430T140000
DTSTAMP:20260425T164158Z
UID:fcf1a7e2249a4ed984a35cfb80c261c5@www.uni-marburg.de
ATTENDEE;CN="Lee Ann Schneider, B.Sc. Physik";ROLE=REQ-PARTICIPANT:Lee Ann
  Schneider, B.Sc. Physik
ATTENDEE;CN="Steffi Wittich, Referentin FRGB";ROLE=REQ-PARTICIPANT:Steffi 
 Wittich, Referentin FRGB
ATTENDEE;CN="ggf. Frauen- und Gleichstellungsbeauftragte des Fachbereichs 
 Physik";ROLE=REQ-PARTICIPANT:ggf. Frauen- und Gleichstellungsbeauftragte d
 es Fachbereichs Physik
CREATED:20230731T100503Z
DESCRIPTION:https://www.uni-marburg.de/de/universitaet/administration/verw
 altung/stabsstellen/frauen/aktuelles/termine/brunch-fuer-studienanfaengeri
 nnen25\n
LAST-MODIFIED:20250407T114452Z
LOCATION:Seminarraum\, EG\, Renthof 6
URL:https://www.uni-marburg.de/de/universitaet/administration/verwaltung/s
 tabsstellen/frauen/aktuelles/termine/brunch-fuer-studienanfaengerinnen25
END:VEVENT
BEGIN:VTIMEZONE
TZID:Europe/Berlin
X-LIC-LOCATION:Europe/Berlin
BEGIN:DAYLIGHT
DTSTART:20250330T030000
TZNAME:CEST
TZOFFSETFROM:+0100
TZOFFSETTO:+0200
END:DAYLIGHT
END:VTIMEZONE
END:VCALENDAR
