BEGIN:VCALENDAR
VERSION:2.0
PRODID:-//Plone.org//NONSGML plone.app.event//EN
X-WR-TIMEZONE:Europe/Berlin
BEGIN:VEVENT
SUMMARY:Celebrating the freedom to read
DTSTART;TZID=Europe/Berlin:20250423T163000
DTSTAMP:20260426T010828Z
UID:1e414218a9e64ba3b44cfb107107437e@www.uni-marburg.de
ATTENDEE;CN="Referentin: Claudia Frick, TH Köln";ROLE=REQ-PARTICIPANT:Ref
 erentin: Claudia Frick, TH Köln
ATTENDEE;CN="Speaker: Eve Boger and Lucie Pitt, Wilco Iris";ROLE=REQ-PARTI
 CIPANT:Speaker: Eve Boger and Lucie Pitt, Wilco Iris
CREATED:20250224T101420Z
DESCRIPTION:https://www.uni-marburg.de/de/universitaet/administration/verw
 altung/stabsstellen/frauen/aktuelles/termine/celebrating-the-freedom-to-re
 ad\nA queer event on the World Book Day
LAST-MODIFIED:20250224T101616Z
LOCATION:Online
URL:https://www.uni-marburg.de/de/universitaet/administration/verwaltung/s
 tabsstellen/frauen/aktuelles/termine/celebrating-the-freedom-to-read
END:VEVENT
BEGIN:VTIMEZONE
TZID:Europe/Berlin
X-LIC-LOCATION:Europe/Berlin
BEGIN:DAYLIGHT
DTSTART:20250330T030000
TZNAME:CEST
TZOFFSETFROM:+0100
TZOFFSETTO:+0200
END:DAYLIGHT
END:VTIMEZONE
END:VCALENDAR
