BEGIN:VCALENDAR
VERSION:2.0
PRODID:-//Plone.org//NONSGML plone.app.event//EN
X-WR-TIMEZONE:Europe/Berlin
BEGIN:VEVENT
SUMMARY:Physikerinnen*-Frühstück (w/d)
DTSTART;TZID=Europe/Berlin:20251001T100000
DTEND;TZID=Europe/Berlin:20251001T120000
DTSTAMP:20260425T160317Z
UID:d358c5705ed14885bff749a261f512a4@www.uni-marburg.de
ATTENDEE;CN="Lee Ann Schneider, B.Sc. Physik";ROLE=REQ-PARTICIPANT:Lee Ann
  Schneider, B.Sc. Physik
ATTENDEE;CN="Steffi Wittich, Referentin FRGB";ROLE=REQ-PARTICIPANT:Steffi 
 Wittich, Referentin FRGB
ATTENDEE;CN="ggf. Frauen- und Gleichstellungsbeauftragte des Fachbereichs 
 Physik";ROLE=REQ-PARTICIPANT:ggf. Frauen- und Gleichstellungsbeauftragte d
 es Fachbereichs Physik
CREATED:20230731T100503Z
DESCRIPTION:https://www.uni-marburg.de/de/universitaet/administration/verw
 altung/stabsstellen/frauen/aktuelles/termine/copy_of_brunch-fuer-studienan
 faengerinnen25\n
LAST-MODIFIED:20250915T091657Z
LOCATION:Seminarraum\, 2. EG\, Renthof 5
URL:https://www.uni-marburg.de/de/universitaet/administration/verwaltung/s
 tabsstellen/frauen/aktuelles/termine/copy_of_brunch-fuer-studienanfaengeri
 nnen25
END:VEVENT
BEGIN:VTIMEZONE
TZID:Europe/Berlin
X-LIC-LOCATION:Europe/Berlin
BEGIN:DAYLIGHT
DTSTART:20250330T030000
TZNAME:CEST
TZOFFSETFROM:+0100
TZOFFSETTO:+0200
END:DAYLIGHT
END:VTIMEZONE
END:VCALENDAR
