BEGIN:VCALENDAR
VERSION:2.0
PRODID:-//Plone.org//NONSGML plone.app.event//EN
X-WR-TIMEZONE:Europe/Berlin
BEGIN:VEVENT
SUMMARY:Digitale Infoveranstaltung für ProAcademia und ProProfessur von M
 entoring Hessen
DTSTART;TZID=Europe/Berlin:20251110T120000
DTEND;TZID=Europe/Berlin:20251110T133000
DTSTAMP:20260426T025055Z
UID:528539e716ac429f9ef14563d734dfc1@www.uni-marburg.de
ATTENDEE;CN="Geschäftsstelle Mentoring Hessen";ROLE=REQ-PARTICIPANT:Gesch
 äftsstelle Mentoring Hessen
CATEGORIES:()
CREATED:20251025T105746Z
DESCRIPTION:https://www.uni-marburg.de/de/universitaet/administration/verw
 altung/stabsstellen/frauen/aktuelles/termine/digitale-infoveranstaltung-fu
 er-proacademia_und_proprofessur-von-mentoring-hessen\n
LAST-MODIFIED:20251025T113435Z
LOCATION:online
URL:https://www.uni-marburg.de/de/universitaet/administration/verwaltung/s
 tabsstellen/frauen/aktuelles/termine/digitale-infoveranstaltung-fuer-proac
 ademia_und_proprofessur-von-mentoring-hessen
END:VEVENT
BEGIN:VTIMEZONE
TZID:Europe/Berlin
X-LIC-LOCATION:Europe/Berlin
BEGIN:STANDARD
DTSTART:20251026T020000
TZNAME:CET
TZOFFSETFROM:+0200
TZOFFSETTO:+0100
END:STANDARD
END:VTIMEZONE
END:VCALENDAR
