BEGIN:VCALENDAR
VERSION:2.0
PRODID:-//Plone.org//NONSGML plone.app.event//EN
X-WR-TIMEZONE:Europe/Berlin
BEGIN:VEVENT
SUMMARY:Digitale Infoveranstaltung für ProCareer.MINT von Mentoring Hesse
 n
DTSTART;TZID=Europe/Berlin:20251110T160000
DTEND;TZID=Europe/Berlin:20251110T173000
DTSTAMP:20260426T001713Z
UID:53f77a5776504b37beddf770e0275907@www.uni-marburg.de
ATTENDEE;CN="Geschäftsstelle Mentoring Hessen";ROLE=REQ-PARTICIPANT:Gesch
 äftsstelle Mentoring Hessen
CATEGORIES:()
CREATED:20251025T105746Z
DESCRIPTION:https://www.uni-marburg.de/de/universitaet/administration/verw
 altung/stabsstellen/frauen/aktuelles/termine/digitale-infoveranstaltung-fu
 er-procareermint-von-mentoring-hessen_1\n
LAST-MODIFIED:20251025T113448Z
LOCATION:online
URL:https://www.uni-marburg.de/de/universitaet/administration/verwaltung/s
 tabsstellen/frauen/aktuelles/termine/digitale-infoveranstaltung-fuer-proca
 reermint-von-mentoring-hessen_1
END:VEVENT
BEGIN:VTIMEZONE
TZID:Europe/Berlin
X-LIC-LOCATION:Europe/Berlin
BEGIN:STANDARD
DTSTART:20251026T020000
TZNAME:CET
TZOFFSETFROM:+0200
TZOFFSETTO:+0100
END:STANDARD
END:VTIMEZONE
END:VCALENDAR
