BEGIN:VCALENDAR
VERSION:2.0
PRODID:-//Plone.org//NONSGML plone.app.event//EN
X-WR-TIMEZONE:Europe/Berlin
BEGIN:VEVENT
SUMMARY:Durchsetzungsvermögen und Konsensbildung in Führung
DTSTART;TZID=Europe/Berlin:20221027T130000
DTEND;TZID=Europe/Berlin:20221028T140000
DTSTAMP:20260426T012137Z
UID:80ec3f181f884ac5bf870a6140e8815b@www.uni-marburg.de
CREATED:20171128T120330Z
DESCRIPTION:https://www.uni-marburg.de/de/universitaet/administration/verw
 altung/stabsstellen/frauen/aktuelles/termine/durchsetzungsvermoegen-und-ko
 nsensbildung-in-fuehrung\nKompaktworkshop für Professorinnen und weiblich
 e Führungskräfte
LAST-MODIFIED:20220720T044242Z
LOCATION:(unter Vorbehalt) Sprachatlas\, Pilgrimstein 16
URL:https://www.uni-marburg.de/de/universitaet/administration/verwaltung/s
 tabsstellen/frauen/aktuelles/termine/durchsetzungsvermoegen-und-konsensbil
 dung-in-fuehrung
END:VEVENT
BEGIN:VTIMEZONE
TZID:Europe/Berlin
X-LIC-LOCATION:Europe/Berlin
BEGIN:DAYLIGHT
DTSTART:20220327T030000
TZNAME:CEST
TZOFFSETFROM:+0100
TZOFFSETTO:+0200
END:DAYLIGHT
END:VTIMEZONE
END:VCALENDAR
