BEGIN:VCALENDAR
VERSION:2.0
PRODID:-//Plone.org//NONSGML plone.app.event//EN
X-WR-TIMEZONE:Europe/Berlin
BEGIN:VEVENT
SUMMARY:Exkursion zum Deutschen Elektronen-Synchotron (DESY)
DTSTART;TZID=Europe/Berlin:20251204T140000
DTEND;TZID=Europe/Berlin:20251206T200000
DTSTAMP:20260425T182715Z
UID:7ca24cb413d846aca3ff5893957490be@www.uni-marburg.de
ATTENDEE;CN="Dr. Steffi Wittich";ROLE=REQ-PARTICIPANT:Dr. Steffi Wittich
ATTENDEE;CN="Lee Ann Schneider";ROLE=REQ-PARTICIPANT:Lee Ann Schneider
CATEGORIES:()
CREATED:20251021T110039Z
DESCRIPTION:https://www.uni-marburg.de/de/universitaet/administration/verw
 altung/stabsstellen/frauen/aktuelles/termine/exkursion-zum-deutschen-elekt
 ronen-synchotron-desy\nHorizonte erweitern – Wissen erleben – Vielfalt
  kennenlernen
LAST-MODIFIED:20251027T120418Z
LOCATION:Hansestadt Hamburg
URL:https://www.uni-marburg.de/de/universitaet/administration/verwaltung/s
 tabsstellen/frauen/aktuelles/termine/exkursion-zum-deutschen-elektronen-sy
 nchotron-desy
END:VEVENT
BEGIN:VTIMEZONE
TZID:Europe/Berlin
X-LIC-LOCATION:Europe/Berlin
BEGIN:STANDARD
DTSTART:20251026T020000
TZNAME:CET
TZOFFSETFROM:+0200
TZOFFSETTO:+0100
END:STANDARD
END:VTIMEZONE
END:VCALENDAR
