BEGIN:VCALENDAR
VERSION:2.0
PRODID:-//Plone.org//NONSGML plone.app.event//EN
X-WR-TIMEZONE:Europe/Berlin
BEGIN:VEVENT
SUMMARY:Festakt zur Verleihung des Frauenförderpreises
DTSTART;TZID=Europe/Berlin:20241203T173000
DTSTAMP:20260426T045306Z
UID:c875636e78a24953a6f57d58d5815622@www.uni-marburg.de
CREATED:20241106T073014Z
DESCRIPTION:https://www.uni-marburg.de/de/universitaet/administration/verw
 altung/stabsstellen/frauen/aktuelles/termine/festakt-zur-verleihung-des-fr
 auenfoerderpreises-1\nDie mit 2.500 Euro dotierte Auszeichnung wird alle z
 wei Jahre öffentlich verliehen. Mit dem Preis werden hervorragende Verdie
 nste von Mitgliedern oder Angehörigen der Philipps-Universität um die F
 örderung von Frauen an der Universität gewürdigt.
LAST-MODIFIED:20241106T090421Z
LOCATION:Aula der Alten Universität
URL:https://www.uni-marburg.de/de/universitaet/administration/verwaltung/s
 tabsstellen/frauen/aktuelles/termine/festakt-zur-verleihung-des-frauenfoer
 derpreises-1
END:VEVENT
BEGIN:VTIMEZONE
TZID:Europe/Berlin
X-LIC-LOCATION:Europe/Berlin
BEGIN:STANDARD
DTSTART:20241027T020000
TZNAME:CET
TZOFFSETFROM:+0200
TZOFFSETTO:+0100
END:STANDARD
END:VTIMEZONE
END:VCALENDAR
