BEGIN:VCALENDAR
VERSION:2.0
PRODID:-//Plone.org//NONSGML plone.app.event//EN
X-WR-TIMEZONE:Europe/Berlin
BEGIN:VEVENT
SUMMARY:Frauenvollversammlung 2025 und Verleihung des Prädikats "gleichst
 ellungsstarke Hochschule"
DTSTART;TZID=Europe/Berlin:20250711T110000
DTEND;TZID=Europe/Berlin:20250711T150000
DTSTAMP:20260425T201311Z
UID:3d138b9a351e4ff3b6a4e9df91d705a7@www.uni-marburg.de
CREATED:20250606T122850Z
DESCRIPTION:https://www.uni-marburg.de/de/universitaet/administration/verw
 altung/stabsstellen/frauen/aktuelles/termine/frauenvollversammlung2025\n
LAST-MODIFIED:20250703T105422Z
LOCATION:CINEPLEX Kino Marburg (Biegenstraße 1a\, 35037 Marburg)
URL:https://www.uni-marburg.de/de/universitaet/administration/verwaltung/s
 tabsstellen/frauen/aktuelles/termine/frauenvollversammlung2025
END:VEVENT
BEGIN:VTIMEZONE
TZID:Europe/Berlin
X-LIC-LOCATION:Europe/Berlin
BEGIN:DAYLIGHT
DTSTART:20250330T030000
TZNAME:CEST
TZOFFSETFROM:+0100
TZOFFSETTO:+0200
END:DAYLIGHT
END:VTIMEZONE
END:VCALENDAR
