BEGIN:VCALENDAR
VERSION:2.0
PRODID:-//Plone.org//NONSGML plone.app.event//EN
X-WR-TIMEZONE:Europe/Berlin
BEGIN:VEVENT
SUMMARY:Hörsaalkino: The Imitation Game
DTSTART;TZID=Europe/Berlin:20260113T160000
DTEND;TZID=Europe/Berlin:20260113T183000
DTSTAMP:20260425T031205Z
UID:ac3cd98ea8a443a88cd6b19aa2d81a97@www.uni-marburg.de
CATEGORIES:()
CREATED:20250926T115503Z
DESCRIPTION:https://www.uni-marburg.de/de/universitaet/administration/verw
 altung/stabsstellen/frauen/aktuelles/termine/hoersaalkino-the-imitation-ga
 me\n
LAST-MODIFIED:20260107T142120Z
LOCATION:Kleiner Hörsaal (+1/0010)\, Bahnhofstr. 7
URL:https://www.uni-marburg.de/de/universitaet/administration/verwaltung/s
 tabsstellen/frauen/aktuelles/termine/hoersaalkino-the-imitation-game
END:VEVENT
BEGIN:VTIMEZONE
TZID:Europe/Berlin
X-LIC-LOCATION:Europe/Berlin
BEGIN:STANDARD
DTSTART:20251026T020000
TZNAME:CET
TZOFFSETFROM:+0200
TZOFFSETTO:+0100
END:STANDARD
END:VTIMEZONE
END:VCALENDAR
