BEGIN:VCALENDAR
VERSION:2.0
PRODID:-//Plone.org//NONSGML plone.app.event//EN
X-WR-TIMEZONE:Europe/Berlin
BEGIN:VEVENT
SUMMARY:Karrieregespräch. Herausforderungen in Wissenschaftskarrieren
DTSTART;TZID=Europe/Berlin:20250922T160000
DTEND;TZID=Europe/Berlin:20250922T173000
DTSTAMP:20260426T053101Z
UID:5d49afb545254bedb13143d5c38589f1@www.uni-marburg.de
ATTENDEE;CN="Julia Wandt, Scicomm-Support";ROLE=REQ-PARTICIPANT:Julia Wand
 t, Scicomm-Support
ATTENDEE;CN="Dr. Marischa Fast, Deutsche Allianz Klimawandel und Gesundhei
 t e.V. (KLUG)";ROLE=REQ-PARTICIPANT:Dr. Marischa Fast, Deutsche Allianz Kl
 imawandel und Gesundheit e.V. (KLUG)
ATTENDEE;CN="Dr. Julia Höhler, Wageningen University & Research";ROLE=REQ
 -PARTICIPANT:Dr. Julia Höhler, Wageningen University & Research
ATTENDEE;CN="Prof. Dr. Petra Saltuari, Alanus Hochschule";ROLE=REQ-PARTICI
 PANT:Prof. Dr. Petra Saltuari, Alanus Hochschule
ATTENDEE;CN="Dr. Ewa Palenga-Möllenbeck, Goethe-Universität";ROLE=REQ-PA
 RTICIPANT:Dr. Ewa Palenga-Möllenbeck, Goethe-Universität
ATTENDEE;CN="Prof. Dr. Theresa Maria Roth, Humboldt-Universität zu Berlin
 ";ROLE=REQ-PARTICIPANT:Prof. Dr. Theresa Maria Roth, Humboldt-Universität
  zu Berlin
CATEGORIES:()
CREATED:20250917T132815Z
DESCRIPTION:https://www.uni-marburg.de/de/universitaet/administration/verw
 altung/stabsstellen/frauen/aktuelles/termine/karrieregespraech-herausforde
 rungen-in-wissenschaftskarrieren\n
LAST-MODIFIED:20250917T133221Z
LOCATION:Online-Veranstaltung via ZoomX (Der Einwahllink geht Ihnen zeitna
 h vor der Veranstaltung per Mail zu)
URL:https://www.uni-marburg.de/de/universitaet/administration/verwaltung/s
 tabsstellen/frauen/aktuelles/termine/karrieregespraech-herausforderungen-i
 n-wissenschaftskarrieren
END:VEVENT
BEGIN:VTIMEZONE
TZID:Europe/Berlin
X-LIC-LOCATION:Europe/Berlin
BEGIN:DAYLIGHT
DTSTART:20250330T030000
TZNAME:CEST
TZOFFSETFROM:+0100
TZOFFSETTO:+0200
END:DAYLIGHT
END:VTIMEZONE
END:VCALENDAR
