BEGIN:VCALENDAR
VERSION:2.0
PRODID:-//Plone.org//NONSGML plone.app.event//EN
X-WR-TIMEZONE:Europe/Berlin
BEGIN:VEVENT
SUMMARY:"Let's Zettel!" Gemeinsames Zettelrechnen für FLINTA*-Studierende
  von "Mehr (für) Physikstudentinnen"
DTSTART;TZID=Europe/Berlin:20250428T160000
DTEND;TZID=Europe/Berlin:20250428T180000
DTSTAMP:20260425T213700Z
UID:c0270c148a3649eca5d96757ac346193@www.uni-marburg.de
RRULE:FREQ=WEEKLY;UNTIL=20250725T000000
EXDATE;TZID=Europe/Berlin:20250512T160000,20250526T160000,20250609T160000,
 20250623T160000,20250707T160000
ATTENDEE;CN="Nadja Voermanek (B.Sc.)";ROLE=REQ-PARTICIPANT:Nadja Voermanek
  (B.Sc.)
ATTENDEE;CN="Merle Rake";ROLE=REQ-PARTICIPANT:Merle Rake
CREATED:20250408T094414Z
DESCRIPTION:https://www.uni-marburg.de/de/universitaet/administration/verw
 altung/stabsstellen/frauen/aktuelles/termine/lets-zettel-w-d-von-mehr-fuer
 -physikstudentinnen\n
LAST-MODIFIED:20250408T100346Z
LOCATION:Renthof 7 Seminarraum 03002
URL:https://www.uni-marburg.de/de/universitaet/administration/verwaltung/s
 tabsstellen/frauen/aktuelles/termine/lets-zettel-w-d-von-mehr-fuer-physiks
 tudentinnen
END:VEVENT
BEGIN:VTIMEZONE
TZID:Europe/Berlin
X-LIC-LOCATION:Europe/Berlin
BEGIN:DAYLIGHT
DTSTART:20250330T030000
TZNAME:CEST
TZOFFSETFROM:+0100
TZOFFSETTO:+0200
END:DAYLIGHT
END:VTIMEZONE
END:VCALENDAR
