BEGIN:VCALENDAR
VERSION:2.0
PRODID:-//Plone.org//NONSGML plone.app.event//EN
X-WR-TIMEZONE:Europe/Berlin
BEGIN:VEVENT
SUMMARY:Führung durch die Isabellenhütte Heusler GmbH für Physikerinnen
 * (w/d)
DTSTART;TZID=Europe/Berlin:20250606T070000
DTSTAMP:20260425T233813Z
UID:f392e86798f941599a8853f742ac6480@www.uni-marburg.de
CREATED:20250305T124116Z
DESCRIPTION:https://www.uni-marburg.de/de/universitaet/administration/verw
 altung/stabsstellen/frauen/aktuelles/termine/physikerinnen-fuehrung-durch-
 die-isabellenhuette-heusler-gmbh\n
LAST-MODIFIED:20250512T120718Z
LOCATION:Dillenburg
URL:https://www.uni-marburg.de/de/universitaet/administration/verwaltung/s
 tabsstellen/frauen/aktuelles/termine/physikerinnen-fuehrung-durch-die-isab
 ellenhuette-heusler-gmbh
END:VEVENT
BEGIN:VTIMEZONE
TZID:Europe/Berlin
X-LIC-LOCATION:Europe/Berlin
BEGIN:DAYLIGHT
DTSTART:20250330T030000
TZNAME:CEST
TZOFFSETFROM:+0100
TZOFFSETTO:+0200
END:DAYLIGHT
END:VTIMEZONE
END:VCALENDAR
