BEGIN:VCALENDAR
VERSION:2.0
PRODID:-//Plone.org//NONSGML plone.app.event//EN
X-WR-TIMEZONE:Europe/Berlin
BEGIN:VEVENT
SUMMARY:Promovieren in der Physik - Doktorandinnen im Fokus
DTSTART;TZID=Europe/Berlin:20251112T120000
DTEND;TZID=Europe/Berlin:20251112T140000
DTSTAMP:20260425T164024Z
UID:4354046842844776a353ebb231883543@www.uni-marburg.de
ATTENDEE;CN="Lea Obermüller";ROLE=REQ-PARTICIPANT:Lea Obermüller
ATTENDEE;CN="Maryam Raouph";ROLE=REQ-PARTICIPANT:Maryam Raouph
ATTENDEE;CN="Eleonora Kraus";ROLE=REQ-PARTICIPANT:Eleonora Kraus
ATTENDEE;CN="Eleonora Kraus";ROLE=REQ-PARTICIPANT:Eleonora Kraus
CATEGORIES:()
CREATED:20230719T091724Z
DESCRIPTION:https://www.uni-marburg.de/de/universitaet/administration/verw
 altung/stabsstellen/frauen/aktuelles/termine/promovendinnen-vorstellung-wi
 se25\nWie läuft eine Promotion in der Physik?
LAST-MODIFIED:20251020T083128Z
LOCATION:Renthof 5\, kleiner Hörsaal\, 2. OG
URL:https://www.uni-marburg.de/de/universitaet/administration/verwaltung/s
 tabsstellen/frauen/aktuelles/termine/promovendinnen-vorstellung-wise25
END:VEVENT
BEGIN:VTIMEZONE
TZID:Europe/Berlin
X-LIC-LOCATION:Europe/Berlin
BEGIN:STANDARD
DTSTART:20251026T020000
TZNAME:CET
TZOFFSETFROM:+0200
TZOFFSETTO:+0100
END:STANDARD
END:VTIMEZONE
END:VCALENDAR
