BEGIN:VCALENDAR
VERSION:2.0
PRODID:-//Plone.org//NONSGML plone.app.event//EN
X-WR-TIMEZONE:Europe/Berlin
BEGIN:VEVENT
SUMMARY:Protokollschreibwerkstatt für Studierende (m/w/d) in den Physik-G
 rundpraktika
DTSTART;TZID=Europe/Berlin:20250305T120000
DTEND;TZID=Europe/Berlin:20250305T170000
DTSTAMP:20260426T001313Z
UID:898931aa005944bd873cee00697a9885@www.uni-marburg.de
ATTENDEE;CN="Merle Rake";ROLE=REQ-PARTICIPANT:Merle Rake
ATTENDEE;CN="B.Sc. Nadja Voermanek";ROLE=REQ-PARTICIPANT:B.Sc. Nadja Voerm
 anek
ATTENDEE;CN="Dr. Stefanie Wittich";ROLE=REQ-PARTICIPANT:Dr. Stefanie Witti
 ch
CREATED:20250226T144942Z
DESCRIPTION:https://www.uni-marburg.de/de/universitaet/administration/verw
 altung/stabsstellen/frauen/aktuelles/termine/protokollschreibwerkstatt-fue
 r-studierende-m-w-d-in-den-grundpraktika\n
LAST-MODIFIED:20250226T145441Z
LOCATION:Seminarraum RH5
URL:https://www.uni-marburg.de/de/universitaet/administration/verwaltung/s
 tabsstellen/frauen/aktuelles/termine/protokollschreibwerkstatt-fuer-studie
 rende-m-w-d-in-den-grundpraktika
END:VEVENT
BEGIN:VTIMEZONE
TZID:Europe/Berlin
X-LIC-LOCATION:Europe/Berlin
BEGIN:STANDARD
DTSTART:20241027T020000
TZNAME:CET
TZOFFSETFROM:+0200
TZOFFSETTO:+0100
END:STANDARD
END:VTIMEZONE
END:VCALENDAR
