BEGIN:VCALENDAR
VERSION:2.0
PRODID:-//Plone.org//NONSGML plone.app.event//EN
X-WR-TIMEZONE:Europe/Berlin
BEGIN:VEVENT
SUMMARY:Selbstbehauptung für junge Wissenschaftler*innen – Dein Einstie
 g als FLINTA in die Wissenschaft
DTSTART;TZID=Europe/Berlin:20250514T090000
DTEND;TZID=Europe/Berlin:20250514T150000
DTSTAMP:20260426T034808Z
UID:b99defa3f4cf4800bb8080f6f30d7d13@www.uni-marburg.de
CREATED:20250430T113330Z
DESCRIPTION:https://www.uni-marburg.de/de/universitaet/administration/verw
 altung/stabsstellen/frauen/aktuelles/termine/selbstbehauptung-fuer-junge-w
 issenschaftler-innen-dein-einstieg-als-flinta-in-die-wissenschaft\nGemeins
 am stärken wir Selbstbehauptung\, Sichtbarkeit und Selbstbewusstsein jung
 er Wissenschaftler*innen. Der Workshop bietet Raum zur Reflexion\, zum Aus
 tausch und zur Entwicklung konkreter Strategien für einen selbstsicheren 
 Einstieg oder weiteren Weg in die wissenschaftliche Laufbahn.
LAST-MODIFIED:20250430T113344Z
LOCATION:Marburg\, Barfüßerstraße 1\, Raum 00/0100
URL:https://www.uni-marburg.de/de/universitaet/administration/verwaltung/s
 tabsstellen/frauen/aktuelles/termine/selbstbehauptung-fuer-junge-wissensch
 aftler-innen-dein-einstieg-als-flinta-in-die-wissenschaft
END:VEVENT
BEGIN:VTIMEZONE
TZID:Europe/Berlin
X-LIC-LOCATION:Europe/Berlin
BEGIN:DAYLIGHT
DTSTART:20250330T030000
TZNAME:CEST
TZOFFSETFROM:+0100
TZOFFSETTO:+0200
END:DAYLIGHT
END:VTIMEZONE
END:VCALENDAR
