BEGIN:VCALENDAR
VERSION:2.0
PRODID:-//Plone.org//NONSGML plone.app.event//EN
X-WR-TIMEZONE:Europe/Berlin
BEGIN:VEVENT
SUMMARY:ENTFÄLLT: Selbstführung - Die eigenen Stärken entwickeln
DTSTART;TZID=Europe/Berlin:20250821T090000
DTEND;TZID=Europe/Berlin:20250822T130000
DTSTAMP:20260425T184137Z
UID:a5772352e49a43f79ca197b13dbf0a2a@www.uni-marburg.de
ATTENDEE;CN="Bettina Ehmer - Teamentwicklerin, Coach und Resilienztraineri
 n";ROLE=REQ-PARTICIPANT:Bettina Ehmer - Teamentwicklerin, Coach und Resili
 enztrainerin
CREATED:20250321T142231Z
DESCRIPTION:https://www.uni-marburg.de/de/universitaet/administration/verw
 altung/stabsstellen/frauen/aktuelles/termine/selbstfuehrung-die-eigenen-st
 aerken-entwickeln-1\n1\,5 tägiges Seminar für Frauen mit und ohne Führu
 ngsaufgaben
LAST-MODIFIED:20250721T075621Z
LOCATION:Bahnhofstr. 7\, Creative Space\, 1. OG (barrierearm erreichbar)
URL:https://www.uni-marburg.de/de/universitaet/administration/verwaltung/s
 tabsstellen/frauen/aktuelles/termine/selbstfuehrung-die-eigenen-staerken-e
 ntwickeln-1
END:VEVENT
BEGIN:VTIMEZONE
TZID:Europe/Berlin
X-LIC-LOCATION:Europe/Berlin
BEGIN:DAYLIGHT
DTSTART:20250330T030000
TZNAME:CEST
TZOFFSETFROM:+0100
TZOFFSETTO:+0200
END:DAYLIGHT
END:VTIMEZONE
END:VCALENDAR
