BEGIN:VCALENDAR
VERSION:2.0
PRODID:-//Plone.org//NONSGML plone.app.event//EN
X-WR-TIMEZONE:Europe/Berlin
BEGIN:VEVENT
SUMMARY:Sport Dies - Gesundheitsförderung
DTSTART;TZID=Europe/Berlin:20250521T120000
DTEND;TZID=Europe/Berlin:20250521T180000
DTSTAMP:20260425T164227Z
UID:76307235526d4bd89429778da9e38817@www.uni-marburg.de
CREATED:20250519T070955Z
DESCRIPTION:https://www.uni-marburg.de/de/universitaet/administration/verw
 altung/stabsstellen/frauen/aktuelles/termine/sport-dies-gesundheitsfoerder
 ung\nIndividuelles 1:1 Gesundheits-Coaching
LAST-MODIFIED:20250519T071140Z
LOCATION:Zentrum für Hochschulsport
URL:https://www.uni-marburg.de/de/universitaet/administration/verwaltung/s
 tabsstellen/frauen/aktuelles/termine/sport-dies-gesundheitsfoerderung
END:VEVENT
BEGIN:VTIMEZONE
TZID:Europe/Berlin
X-LIC-LOCATION:Europe/Berlin
BEGIN:DAYLIGHT
DTSTART:20250330T030000
TZNAME:CEST
TZOFFSETFROM:+0100
TZOFFSETTO:+0200
END:DAYLIGHT
END:VTIMEZONE
END:VCALENDAR
