BEGIN:VCALENDAR
VERSION:2.0
PRODID:-//Plone.org//NONSGML plone.app.event//EN
X-WR-TIMEZONE:Europe/Berlin
BEGIN:VEVENT
SUMMARY:Studierende der ersten Generation begeistern und bei der Bewerbung
  unterstützen – Webseminar für engagierte Hochschulangehörige
DTSTART;TZID=Europe/Berlin:20241125T130000
DTEND;TZID=Europe/Berlin:20241125T143000
DTSTAMP:20260426T012136Z
UID:6a2f2315fc4349d690a71e3514b553e8@www.uni-marburg.de
ATTENDEE;CN="Stefan Messingschlager, Mitglied der Auswahlkommission der St
 udienstiftung";ROLE=REQ-PARTICIPANT:Stefan Messingschlager, Mitglied der A
 uswahlkommission der Studienstiftung
CREATED:20241108T105637Z
DESCRIPTION:https://www.uni-marburg.de/de/universitaet/administration/verw
 altung/stabsstellen/frauen/aktuelles/termine/studierende-der-ersten-genera
 tion-begeistern-und-bei-der-bewerbung-unterstuetzen-webseminar-fuer-engagi
 erte-hochschulangehoerige\nInformationen zu Stipendien\, Referenzschreiben
  und mehr!
LAST-MODIFIED:20241108T105713Z
LOCATION:Online via Zoom
URL:https://www.uni-marburg.de/de/universitaet/administration/verwaltung/s
 tabsstellen/frauen/aktuelles/termine/studierende-der-ersten-generation-beg
 eistern-und-bei-der-bewerbung-unterstuetzen-webseminar-fuer-engagierte-hoc
 hschulangehoerige
END:VEVENT
BEGIN:VTIMEZONE
TZID:Europe/Berlin
X-LIC-LOCATION:Europe/Berlin
BEGIN:STANDARD
DTSTART:20241027T020000
TZNAME:CET
TZOFFSETFROM:+0200
TZOFFSETTO:+0100
END:STANDARD
END:VTIMEZONE
END:VCALENDAR
