BEGIN:VCALENDAR
VERSION:2.0
PRODID:-//Plone.org//NONSGML plone.app.event//EN
X-WR-TIMEZONE:Europe/Berlin
BEGIN:VEVENT
SUMMARY:Workshop "Dissoziation im Alltag: Verständnis für und Umgang mit
  dissoziativen Zuständen und Traumatriggern bei Studierenden und Mitarbei
 ter*innen"
DTSTART;TZID=Europe/Berlin:20251021T090000
DTEND;TZID=Europe/Berlin:20251021T130000
DTSTAMP:20260426T034550Z
UID:9eea581f932c4d48a33407604f1acdc4@www.uni-marburg.de
ATTENDEE;CN="Pia Gauck-Schollmayer, Traumatherapeutin Schwerpunkt: Trauma-
  und Identitätstherapie";ROLE=REQ-PARTICIPANT:Pia Gauck-Schollmayer, Trau
 matherapeutin Schwerpunkt: Trauma- und Identitätstherapie
CREATED:20250903T140523Z
DESCRIPTION:https://www.uni-marburg.de/de/universitaet/administration/verw
 altung/stabsstellen/frauen/aktuelles/termine/workshop-umgang-mit-dissoziat
 iven-zustaenden-und-traumatriggern-bei-studierenden-und-mitarbeiter-innen\
 n
LAST-MODIFIED:20250906T053528Z
LOCATION:digital via BBB
URL:https://www.uni-marburg.de/de/universitaet/administration/verwaltung/s
 tabsstellen/frauen/aktuelles/termine/workshop-umgang-mit-dissoziativen-zus
 taenden-und-traumatriggern-bei-studierenden-und-mitarbeiter-innen
END:VEVENT
BEGIN:VTIMEZONE
TZID:Europe/Berlin
X-LIC-LOCATION:Europe/Berlin
BEGIN:DAYLIGHT
DTSTART:20250330T030000
TZNAME:CEST
TZOFFSETFROM:+0100
TZOFFSETTO:+0200
END:DAYLIGHT
END:VTIMEZONE
END:VCALENDAR
