BEGIN:VCALENDAR
VERSION:2.0
PRODID:-//Plone.org//NONSGML plone.app.event//EN
X-WR-TIMEZONE:Europe/Berlin
BEGIN:VEVENT
SUMMARY:Arbeitsstreikschulung
DTSTART;TZID=Europe/Berlin:20231213T100000
DTEND;TZID=Europe/Berlin:20231213T160000
DTSTAMP:20260424T063927Z
UID:7b9f652b2c654006bc7820f405282f86@www.uni-marburg.de
ATTENDEE;CN=Gewerkschaftsaktive;ROLE=REQ-PARTICIPANT:Gewerkschaftsaktive
CREATED:20231129T082307Z
DESCRIPTION:https://www.uni-marburg.de/de/universitaet/administration/wahl
 en/verdi/aktuelles/termine/arbeitsstreikschulung\nInformationsveranstaltun
 g zur Tarif- und Besoldungsrunde im hessischen Landesdienst 2023/24
LAST-MODIFIED:20231129T161022Z
LOCATION:Saalbau Haus Gallus\, Frankfurt am Main
URL:https://www.uni-marburg.de/de/universitaet/administration/wahlen/verdi
 /aktuelles/termine/arbeitsstreikschulung
END:VEVENT
BEGIN:VTIMEZONE
TZID:Europe/Berlin
X-LIC-LOCATION:Europe/Berlin
BEGIN:STANDARD
DTSTART:20231029T020000
TZNAME:CET
TZOFFSETFROM:+0200
TZOFFSETTO:+0100
END:STANDARD
END:VTIMEZONE
END:VCALENDAR
