BEGIN:VCALENDAR
VERSION:2.0
PRODID:-//Plone.org//NONSGML plone.app.event//EN
X-WR-TIMEZONE:Europe/Berlin
BEGIN:VEVENT
SUMMARY:Auftakt zur Tarifrunde 2026
DTSTART;VALUE=DATE:20250630
DTEND;VALUE=DATE:20250701
DTSTAMP:20260425T033920Z
UID:42fd7571caff4b6e88dc4430c5783380@www.uni-marburg.de
ATTENDEE;CN=ver.di-Aktive;ROLE=REQ-PARTICIPANT:ver.di-Aktive
CREATED:20250513T115952Z
DESCRIPTION:https://www.uni-marburg.de/de/universitaet/administration/wahl
 en/verdi/aktuelles/termine/auftakt-zur-tarifrunde-2026\nAktivenkonferenz
LAST-MODIFIED:20250513T120004Z
LOCATION:DGB Haus Frankfurt\, Wilhelm-Leuschner-Saal
URL:https://www.uni-marburg.de/de/universitaet/administration/wahlen/verdi
 /aktuelles/termine/auftakt-zur-tarifrunde-2026
END:VEVENT
END:VCALENDAR
