BEGIN:VCALENDAR
VERSION:2.0
PRODID:-//Plone.org//NONSGML plone.app.event//EN
X-WR-TIMEZONE:Europe/Berlin
BEGIN:VEVENT
SUMMARY:Frischauf!
DTSTART;VALUE=DATE:20260503
DTEND;VALUE=DATE:20260504
DTSTAMP:20260424T192735Z
UID:9dcf6cf893474d7d9a4f67caa3b18bf3@www.uni-marburg.de
CATEGORIES:()
CREATED:20260417T151220Z
DESCRIPTION:https://www.uni-marburg.de/de/universitaet/administration/wahl
 en/verdi/aktuelles/termine/frischauf\nMitmachen im ver.di-Team beim Stadtr
 adeln
LAST-MODIFIED:20260420T064710Z
LOCATION:on the road
URL:https://www.uni-marburg.de/de/universitaet/administration/wahlen/verdi
 /aktuelles/termine/frischauf
END:VEVENT
END:VCALENDAR
