BEGIN:VCALENDAR
VERSION:2.0
PRODID:-//Plone.org//NONSGML plone.app.event//EN
X-WR-TIMEZONE:Europe/Berlin
BEGIN:VEVENT
SUMMARY:Gemeinsam für Demokratie - Nie wieder ist jetzt
DTSTART;TZID=Europe/Berlin:20250209T140000
DTEND;TZID=Europe/Berlin:20250209T160000
DTSTAMP:20260426T043015Z
UID:79f5791ec9bd4be2bf306f80884e295d@www.uni-marburg.de
CREATED:20250203T171627Z
DESCRIPTION:https://www.uni-marburg.de/de/universitaet/administration/wahl
 en/verdi/aktuelles/termine/gemeinsam-fuer-demokratie-nie-wieder-ist-jetzt\
 nKundgebung in Marburg
LAST-MODIFIED:20250203T171642Z
LOCATION:Erwin-Piscator-Haus\, Marburg
URL:https://www.uni-marburg.de/de/universitaet/administration/wahlen/verdi
 /aktuelles/termine/gemeinsam-fuer-demokratie-nie-wieder-ist-jetzt
END:VEVENT
BEGIN:VTIMEZONE
TZID:Europe/Berlin
X-LIC-LOCATION:Europe/Berlin
BEGIN:STANDARD
DTSTART:20241027T020000
TZNAME:CET
TZOFFSETFROM:+0200
TZOFFSETTO:+0100
END:STANDARD
END:VTIMEZONE
END:VCALENDAR
