BEGIN:VCALENDAR
VERSION:2.0
PRODID:-//Plone.org//NONSGML plone.app.event//EN
X-WR-TIMEZONE:Europe/Berlin
BEGIN:VEVENT
SUMMARY:Limited contracts suck! New perspectives on fixed-term jobs in Hes
 sen academia
DTSTART;TZID=Europe/Berlin:20240506T190000
DTEND;TZID=Europe/Berlin:20240506T203000
DTSTAMP:20260422T000835Z
UID:2cf0a39dd6a24f0f8e93cdf0253bd859@www.uni-marburg.de
ATTENDEE;CN="Dr. Mathis Heinrich, Yulia Chmutova, Dr. Andreas Piper und we
 itere ";ROLE=REQ-PARTICIPANT:Dr. Mathis Heinrich, Yulia Chmutova, Dr. Andr
 eas Piper und weitere 
CREATED:20240415T100551Z
DESCRIPTION:https://www.uni-marburg.de/de/universitaet/administration/wahl
 en/verdi/aktuelles/termine/kettebefristungen-nerven\nOnline event and disc
 ussion (in english) with Dr. Mathis Heinrich (ver.di Hessen)\, Yulia Chmut
 ova (GEW Marburg)\, Dr. Andreas Piper (GEW) and more. BBB: https://uni-mar
 burg.de/saUels
LAST-MODIFIED:20240502T124054Z
LOCATION:https://uni-marburg.de/saUels
URL:https://www.uni-marburg.de/de/universitaet/administration/wahlen/verdi
 /aktuelles/termine/kettebefristungen-nerven
END:VEVENT
BEGIN:VTIMEZONE
TZID:Europe/Berlin
X-LIC-LOCATION:Europe/Berlin
BEGIN:DAYLIGHT
DTSTART:20240331T030000
TZNAME:CEST
TZOFFSETFROM:+0100
TZOFFSETTO:+0200
END:DAYLIGHT
END:VTIMEZONE
END:VCALENDAR
