BEGIN:VCALENDAR
VERSION:2.0
PRODID:-//Plone.org//NONSGML plone.app.event//EN
X-WR-TIMEZONE:Europe/Berlin
BEGIN:VEVENT
SUMMARY:Offenes Betriebsgruppentreffen
DTSTART;TZID=Europe/Berlin:20240227T160000
DTEND;TZID=Europe/Berlin:20240227T170000
DTSTAMP:20260425T051631Z
UID:7f2f48cf67bd44dbb133871516764658@www.uni-marburg.de
ATTENDEE;CN="Vertrauensleute, Aktive und Interssierte";ROLE=REQ-PARTICIPAN
 T:Vertrauensleute, Aktive und Interssierte
CREATED:20240227T091837Z
DESCRIPTION:https://www.uni-marburg.de/de/universitaet/administration/wahl
 en/verdi/aktuelles/termine/offenes-betriebsgruppentreffen-1\nTreffen der V
 ertrauensleute\, Aktiven und Interssierten
LAST-MODIFIED:20240227T091856Z
LOCATION:online https://uni-marburg.de/qbqJf
URL:https://www.uni-marburg.de/de/universitaet/administration/wahlen/verdi
 /aktuelles/termine/offenes-betriebsgruppentreffen-1
END:VEVENT
BEGIN:VTIMEZONE
TZID:Europe/Berlin
X-LIC-LOCATION:Europe/Berlin
BEGIN:STANDARD
DTSTART:20231029T020000
TZNAME:CET
TZOFFSETFROM:+0200
TZOFFSETTO:+0100
END:STANDARD
END:VTIMEZONE
END:VCALENDAR
