BEGIN:VCALENDAR
VERSION:2.0
PRODID:-//Plone.org//NONSGML plone.app.event//EN
X-WR-TIMEZONE:Europe/Berlin
BEGIN:VEVENT
SUMMARY:Offenes Betriebsgruppentreffen
DTSTART;TZID=Europe/Berlin:20250429T163000
DTEND;TZID=Europe/Berlin:20250429T173000
DTSTAMP:20260425T043703Z
UID:b35fa40b4aa04d2f9d688c9306ecf6c7@www.uni-marburg.de
ATTENDEE;CN="Vertrauensleute und Aktive";ROLE=REQ-PARTICIPANT:Vertrauensle
 ute und Aktive
CREATED:20250428T145110Z
DESCRIPTION:https://www.uni-marburg.de/de/universitaet/administration/wahl
 en/verdi/aktuelles/termine/offenes-betriebsgruppentreffen-5\nSitzung der V
 ertrauensleute und Aktiven
LAST-MODIFIED:20250428T145128Z
LOCATION:https://uni-marburg.de/gWb5jl
URL:https://www.uni-marburg.de/de/universitaet/administration/wahlen/verdi
 /aktuelles/termine/offenes-betriebsgruppentreffen-5
END:VEVENT
BEGIN:VTIMEZONE
TZID:Europe/Berlin
X-LIC-LOCATION:Europe/Berlin
BEGIN:DAYLIGHT
DTSTART:20250330T030000
TZNAME:CEST
TZOFFSETFROM:+0100
TZOFFSETTO:+0200
END:DAYLIGHT
END:VTIMEZONE
END:VCALENDAR
