BEGIN:VCALENDAR
VERSION:2.0
PRODID:-//Plone.org//NONSGML plone.app.event//EN
X-WR-TIMEZONE:Europe/Berlin
BEGIN:VEVENT
SUMMARY:Offenes Betriebsgruppentreffen
DTSTART;TZID=Europe/Berlin:20250527T163000
DTEND;TZID=Europe/Berlin:20250527T173000
DTSTAMP:20260425T051058Z
UID:aa1ac057217c4166bc7e94d1a6fac201@www.uni-marburg.de
ATTENDEE;CN="Vertrauensleute und Aktive";ROLE=REQ-PARTICIPANT:Vertrauensle
 ute und Aktive
CREATED:20250513T115326Z
DESCRIPTION:https://www.uni-marburg.de/de/universitaet/administration/wahl
 en/verdi/aktuelles/termine/offenes-betriebsgruppentreffen-6\nSitzung der V
 ertrauensleute und Aktiven
LAST-MODIFIED:20250513T115411Z
LOCATION:online unter https://uni-marburg.de/gWb5jl
URL:https://www.uni-marburg.de/de/universitaet/administration/wahlen/verdi
 /aktuelles/termine/offenes-betriebsgruppentreffen-6
END:VEVENT
BEGIN:VTIMEZONE
TZID:Europe/Berlin
X-LIC-LOCATION:Europe/Berlin
BEGIN:DAYLIGHT
DTSTART:20250330T030000
TZNAME:CEST
TZOFFSETFROM:+0100
TZOFFSETTO:+0200
END:DAYLIGHT
END:VTIMEZONE
END:VCALENDAR
