BEGIN:VCALENDAR
VERSION:2.0
PRODID:-//Plone.org//NONSGML plone.app.event//EN
X-WR-TIMEZONE:Europe/Berlin
BEGIN:VEVENT
SUMMARY:Offenes Betriebsgruppentreffen
DTSTART;TZID=Europe/Berlin:20251125T163000
DTEND;TZID=Europe/Berlin:20251125T173000
DTSTAMP:20260425T042618Z
UID:7e112bff8900474b9f8046caa2a4f417@www.uni-marburg.de
ATTENDEE;CN="Vertrauensleute und Aktive";ROLE=REQ-PARTICIPANT:Vertrauensle
 ute und Aktive
CATEGORIES:()
CREATED:20251104T114534Z
DESCRIPTION:https://www.uni-marburg.de/de/universitaet/administration/wahl
 en/verdi/aktuelles/termine/offenes-betriebsgruppentreffen-7\nSitzung der V
 ertrauensleute und Aktiven
LAST-MODIFIED:20251112T111335Z
LOCATION:online unter https://uni-marburg.de/gWb5jl
URL:https://www.uni-marburg.de/de/universitaet/administration/wahlen/verdi
 /aktuelles/termine/offenes-betriebsgruppentreffen-7
END:VEVENT
BEGIN:VTIMEZONE
TZID:Europe/Berlin
X-LIC-LOCATION:Europe/Berlin
BEGIN:STANDARD
DTSTART:20251026T020000
TZNAME:CET
TZOFFSETFROM:+0200
TZOFFSETTO:+0100
END:STANDARD
END:VTIMEZONE
END:VCALENDAR
