BEGIN:VCALENDAR
VERSION:2.0
PRODID:-//Plone.org//NONSGML plone.app.event//EN
X-WR-TIMEZONE:Europe/Berlin
BEGIN:VEVENT
SUMMARY:Offenes Betriebsgruppentreffen: Start in die Tarifrunde 2026
DTSTART;TZID=Europe/Berlin:20260113T163000
DTEND;TZID=Europe/Berlin:20260113T173000
DTSTAMP:20260425T150140Z
UID:dbf3366170534039a6d7b59d42844dc4@www.uni-marburg.de
ATTENDEE;CN="ver.di-Vertrauensleute und -Aktive, interessierte Kolleginnen
  und Kollegen";ROLE=REQ-PARTICIPANT:ver.di-Vertrauensleute und -Aktive, in
 teressierte Kolleginnen und Kollegen
CREATED:20260106T073724Z
DESCRIPTION:https://www.uni-marburg.de/de/universitaet/administration/wahl
 en/verdi/aktuelles/termine/offenes-betriebsgruppentreffen-start-in-die-tar
 ifrunde-2026\nOnline-Sitzung der ver.di-Vertrauensleute und -Aktiven
LAST-MODIFIED:20260106T073733Z
LOCATION:online unter https://uni-marburg.de/gWb5jl
URL:https://www.uni-marburg.de/de/universitaet/administration/wahlen/verdi
 /aktuelles/termine/offenes-betriebsgruppentreffen-start-in-die-tarifrunde-
 2026
END:VEVENT
BEGIN:VTIMEZONE
TZID:Europe/Berlin
X-LIC-LOCATION:Europe/Berlin
BEGIN:STANDARD
DTSTART:20251026T020000
TZNAME:CET
TZOFFSETFROM:+0200
TZOFFSETTO:+0100
END:STANDARD
END:VTIMEZONE
END:VCALENDAR
