BEGIN:VCALENDAR
VERSION:2.0
PRODID:-//Plone.org//NONSGML plone.app.event//EN
X-WR-TIMEZONE:Europe/Berlin
BEGIN:VEVENT
SUMMARY:Offenes Betriebsgruppentreffen
DTSTART;TZID=Europe/Berlin:20240201T160000
DTEND;TZID=Europe/Berlin:20240201T170000
DTSTAMP:20260425T050715Z
UID:ff6322afbfbb40db9f0d28ee33bb3bef@www.uni-marburg.de
ATTENDEE;CN="Claudia Keppler, Juko Marc Lucas, Sabine Wallenstein und ver.
 di-Vertrauensleute";ROLE=REQ-PARTICIPANT:Claudia Keppler, Juko Marc Lucas,
  Sabine Wallenstein und ver.di-Vertrauensleute
CREATED:20240126T083924Z
DESCRIPTION:https://www.uni-marburg.de/de/universitaet/administration/wahl
 en/verdi/aktuelles/termine/offenes-betriebsgruppentreffen\nRegelmäßiger 
 Austausch der ver.di-Betriebsgruppe über aktuelle Themen und Termine
LAST-MODIFIED:20240126T084037Z
LOCATION:online: https://uni-marburg.de/qbqJfT
URL:https://www.uni-marburg.de/de/universitaet/administration/wahlen/verdi
 /aktuelles/termine/offenes-betriebsgruppentreffen
END:VEVENT
BEGIN:VTIMEZONE
TZID:Europe/Berlin
X-LIC-LOCATION:Europe/Berlin
BEGIN:STANDARD
DTSTART:20231029T020000
TZNAME:CET
TZOFFSETFROM:+0200
TZOFFSETTO:+0100
END:STANDARD
END:VTIMEZONE
END:VCALENDAR
