BEGIN:VCALENDAR
VERSION:2.0
PRODID:-//Plone.org//NONSGML plone.app.event//EN
X-WR-TIMEZONE:Europe/Berlin
BEGIN:VEVENT
SUMMARY:Tarifrunde 2026: Offene Forderungsbefragung
DTSTART;TZID=Europe/Berlin:20251031T120000
DTEND;TZID=Europe/Berlin:20251031T130000
DTSTAMP:20260425T060149Z
UID:142b94b607554ca3937767e469dd4af4@www.uni-marburg.de
ATTENDEE;CN="Dana Schlegelmilch, ver.di";ROLE=REQ-PARTICIPANT:Dana Schlege
 lmilch, ver.di
ATTENDEE;CN="Laura Incerti und Markus Hermann, ver.di-Betriebsgruppenvorst
 and";ROLE=REQ-PARTICIPANT:Laura Incerti und Markus Hermann, ver.di-Betrieb
 sgruppenvorstand
ATTENDEE;CN="Dr. Mathis Heinrich, ver.di-Tarifkommission Hessen";ROLE=REQ-
 PARTICIPANT:Dr. Mathis Heinrich, ver.di-Tarifkommission Hessen
CATEGORIES:()
CREATED:20251024T170244Z
DESCRIPTION:https://www.uni-marburg.de/de/universitaet/administration/wahl
 en/verdi/aktuelles/termine/tarifrunde-2026-offene-forderungsbefragung\nAkt
 ive Mittagspause: Austausch im Kollegenkreis über Verbesserungen der Arbe
 itsbedingungen durch den Tarifvertrag
LAST-MODIFIED:20251024T170905Z
LOCATION:Seminarraum 105\, Seminargebäude\, Pilgrimstein 12
URL:https://www.uni-marburg.de/de/universitaet/administration/wahlen/verdi
 /aktuelles/termine/tarifrunde-2026-offene-forderungsbefragung
END:VEVENT
BEGIN:VTIMEZONE
TZID:Europe/Berlin
X-LIC-LOCATION:Europe/Berlin
BEGIN:STANDARD
DTSTART:20251026T020000
TZNAME:CET
TZOFFSETFROM:+0200
TZOFFSETTO:+0100
END:STANDARD
END:VTIMEZONE
END:VCALENDAR
