BEGIN:VCALENDAR
VERSION:2.0
PRODID:-//Plone.org//NONSGML plone.app.event//EN
X-WR-TIMEZONE:Europe/Berlin
BEGIN:VEVENT
SUMMARY:Unterfinanzierung beenden\, Bildungskahlschlag stoppen!
DTSTART;TZID=Europe/Berlin:20240718T120000
DTEND;TZID=Europe/Berlin:20240718T133000
DTSTAMP:20260425T170815Z
UID:ecf7951128824dc9a72f3b40b8b5c5ad@www.uni-marburg.de
ATTENDEE;CN="Gewerkschaft, Studierende, Betroffene, Beschäftigte";ROLE=RE
 Q-PARTICIPANT:Gewerkschaft, Studierende, Betroffene, Beschäftigte
CREATED:20240717T082835Z
DESCRIPTION:https://www.uni-marburg.de/de/universitaet/administration/wahl
 en/verdi/aktuelles/termine/unterfinanzierung-beenden-bildungskahlschlag-st
 oppen\nKundgebung gegen Kürzungen an den Hochschulen
LAST-MODIFIED:20240717T083227Z
LOCATION:vor der ehemaligen Universitätsbibliothek\, Wilhelm-Röpke-Stra
 ße 4
URL:https://www.uni-marburg.de/de/universitaet/administration/wahlen/verdi
 /aktuelles/termine/unterfinanzierung-beenden-bildungskahlschlag-stoppen
END:VEVENT
BEGIN:VTIMEZONE
TZID:Europe/Berlin
X-LIC-LOCATION:Europe/Berlin
BEGIN:DAYLIGHT
DTSTART:20240331T030000
TZNAME:CEST
TZOFFSETFROM:+0100
TZOFFSETTO:+0200
END:DAYLIGHT
END:VTIMEZONE
END:VCALENDAR
