BEGIN:VCALENDAR
VERSION:2.0
PRODID:-//Plone.org//NONSGML plone.app.event//EN
X-WR-TIMEZONE:Europe/Berlin
BEGIN:VEVENT
SUMMARY:ver.di-Wandern: Naturpark Edersee
DTSTART;VALUE=DATE:20240526
DTEND;VALUE=DATE:20240527
DTSTAMP:20260425T202845Z
UID:29d69c29d40447b38e68dc2c20090b8a@www.uni-marburg.de
ATTENDEE;CN="Hans Schwarzbach";ROLE=REQ-PARTICIPANT:Hans Schwarzbach
CREATED:20240417T070240Z
DESCRIPTION:https://www.uni-marburg.de/de/universitaet/administration/wahl
 en/verdi/aktuelles/termine/ver-di-wandern-naturpark-edersee\nAusflug mit F
 ührung
LAST-MODIFIED:20240419T142448Z
LOCATION:Edersee
URL:https://www.uni-marburg.de/de/universitaet/administration/wahlen/verdi
 /aktuelles/termine/ver-di-wandern-naturpark-edersee
END:VEVENT
END:VCALENDAR
