BEGIN:VCALENDAR
VERSION:2.0
PRODID:-//Plone.org//NONSGML plone.app.event//EN
X-WR-TIMEZONE:Europe/Berlin
BEGIN:VEVENT
SUMMARY:verde! Die Umwelt-AG
DTSTART;TZID=Europe/Berlin:20231206T124500
DTEND;TZID=Europe/Berlin:20231206T133000
DTSTAMP:20260421T161954Z
UID:546ed2989a5347cf994a008f93841deb@www.uni-marburg.de
ATTENDEE;CN="Mitglieder und Interessierte";ROLE=REQ-PARTICIPANT:Mitglieder
  und Interessierte
CREATED:20231205T142506Z
DESCRIPTION:https://www.uni-marburg.de/de/universitaet/administration/wahl
 en/verdi/aktuelles/termine/verde\nOffenes Treffen der ver.di-Umweltgruppe
LAST-MODIFIED:20231205T142605Z
LOCATION:https://webconf.hrz.uni-marburg.de/d/joh-sxs-4ep-wtv
URL:https://www.uni-marburg.de/de/universitaet/administration/wahlen/verdi
 /aktuelles/termine/verde
END:VEVENT
BEGIN:VTIMEZONE
TZID:Europe/Berlin
X-LIC-LOCATION:Europe/Berlin
BEGIN:STANDARD
DTSTART:20231029T020000
TZNAME:CET
TZOFFSETFROM:+0200
TZOFFSETTO:+0100
END:STANDARD
END:VTIMEZONE
END:VCALENDAR
