BEGIN:VCALENDAR
VERSION:2.0
PRODID:-//Plone.org//NONSGML plone.app.event//EN
X-WR-TIMEZONE:Europe/Berlin
BEGIN:VEVENT
SUMMARY:Wie die Stechuhr tickt
DTSTART;TZID=Europe/Berlin:20240507T180000
DTEND;TZID=Europe/Berlin:20240507T193000
DTSTAMP:20260425T144741Z
UID:4c0caef2e6de44a38a38bec8e7907f02@www.uni-marburg.de
ATTENDEE;CN="Jutta Stanzel, Johannes Scholten und weitere";ROLE=REQ-PARTIC
 IPANT:Jutta Stanzel, Johannes Scholten und weitere
CREATED:20240415T111242Z
DESCRIPTION:https://www.uni-marburg.de/de/universitaet/administration/wahl
 en/verdi/aktuelles/termine/wie-die-stechuhr-tickt\nNeues zur Arbeitszeit
LAST-MODIFIED:20240502T130604Z
LOCATION:Veranstaltungssaal der Universitätsbibliothek
URL:https://www.uni-marburg.de/de/universitaet/administration/wahlen/verdi
 /aktuelles/termine/wie-die-stechuhr-tickt
END:VEVENT
BEGIN:VTIMEZONE
TZID:Europe/Berlin
X-LIC-LOCATION:Europe/Berlin
BEGIN:DAYLIGHT
DTSTART:20240331T030000
TZNAME:CEST
TZOFFSETFROM:+0100
TZOFFSETTO:+0200
END:DAYLIGHT
END:VTIMEZONE
END:VCALENDAR
