BEGIN:VCALENDAR
VERSION:2.0
PRODID:-//Plone.org//NONSGML plone.app.event//EN
X-WR-TIMEZONE:Europe/Berlin
BEGIN:VEVENT
SUMMARY:Workshop "Wir für 3000 jetzt!"
DTSTART;TZID=Europe/Berlin:20230627T090000
DTEND;TZID=Europe/Berlin:20230627T160000
DTSTAMP:20260425T044352Z
UID:982afcd9035a49c9a8414362b488d34d@www.uni-marburg.de
CREATED:20230616T142426Z
DESCRIPTION:https://www.uni-marburg.de/de/universitaet/administration/wahl
 en/verdi/aktuelles/termine/workshop-wir-fuer-3000-jetzt\n
LAST-MODIFIED:20230616T142442Z
LOCATION:Waggonhalle Marburg
URL:https://www.uni-marburg.de/de/universitaet/administration/wahlen/verdi
 /aktuelles/termine/workshop-wir-fuer-3000-jetzt
END:VEVENT
BEGIN:VTIMEZONE
TZID:Europe/Berlin
X-LIC-LOCATION:Europe/Berlin
BEGIN:DAYLIGHT
DTSTART:20230326T030000
TZNAME:CEST
TZOFFSETFROM:+0100
TZOFFSETTO:+0200
END:DAYLIGHT
END:VTIMEZONE
END:VCALENDAR
