BEGIN:VCALENDAR
VERSION:2.0
PRODID:-//Plone.org//NONSGML plone.app.event//EN
X-WR-TIMEZONE:Europe/Berlin
BEGIN:VEVENT
SUMMARY:Workshop: Wohin geht's beim WissZeitVG? Ein Update - und wie weite
 r?!
DTSTART;TZID=Europe/Berlin:20231025T170000
DTEND;TZID=Europe/Berlin:20231025T190000
DTSTAMP:20260425T091402Z
UID:3e5138f61ddf4fb29341da8b725b6b7c@www.uni-marburg.de
ATTENDEE;CN="Sonja Staack, Bundesfachkommissionsleiterin Hochschulen und F
 orschung bei ver.di";ROLE=REQ-PARTICIPANT:Sonja Staack, Bundesfachkommissi
 onsleiterin Hochschulen und Forschung bei ver.di
CREATED:20231016T150127Z
DESCRIPTION:https://www.uni-marburg.de/de/universitaet/administration/wahl
 en/verdi/aktuelles/termine/workshop-wohin-gehts-beim-wisszeitvg-ein-update
 -und-wie-weiter\n
LAST-MODIFIED:20231016T150541Z
LOCATION:Institutsgebäude F|15\, Bunsenstraße 3\, Besprechungsraum (+1/0
 0080)\, 1. Obergeschoss
URL:https://www.uni-marburg.de/de/universitaet/administration/wahlen/verdi
 /aktuelles/termine/workshop-wohin-gehts-beim-wisszeitvg-ein-update-und-wie
 -weiter
END:VEVENT
BEGIN:VTIMEZONE
TZID:Europe/Berlin
X-LIC-LOCATION:Europe/Berlin
BEGIN:DAYLIGHT
DTSTART:20230326T030000
TZNAME:CEST
TZOFFSETFROM:+0100
TZOFFSETTO:+0200
END:DAYLIGHT
END:VTIMEZONE
END:VCALENDAR
