BEGIN:VCALENDAR
VERSION:2.0
PRODID:-//Plone.org//NONSGML plone.app.event//EN
X-WR-TIMEZONE:Europe/Berlin
BEGIN:VEVENT
SUMMARY:Marburg Modul Sprechstunde: Marburg Modul - How to Marburg Modul
DTSTART;TZID=Europe/Berlin:20250508T123000
DTEND;TZID=Europe/Berlin:20250508T133000
DTSTAMP:20260425T131242Z
UID:e145f28de159451fb2e8d87ed7ee64e4@www.uni-marburg.de
CREATED:20220803T142806Z
DESCRIPTION:https://www.uni-marburg.de/de/universitaet/lehre/studienstrukt
 ur/marskills/aktuelle/termine/copy2_of_lunch-lecture-marburg-modul-projekt
 seminar-gestalten\nIn der Marburg Modul Sprechstunde können Sie sich zu e
 inem aktuellen Thema informieren und austauschen oder allgemein Antworten 
 zum Marburg Modul bekommen.
LAST-MODIFIED:20250402T191410Z
LOCATION:online: https://webconf.hrz.uni-marburg.de/n/rooms/tmx-njg-gtu-t7
 x/join
URL:https://www.uni-marburg.de/de/universitaet/lehre/studienstruktur/marsk
 ills/aktuelle/termine/copy2_of_lunch-lecture-marburg-modul-projektseminar-
 gestalten
END:VEVENT
BEGIN:VTIMEZONE
TZID:Europe/Berlin
X-LIC-LOCATION:Europe/Berlin
BEGIN:DAYLIGHT
DTSTART:20250330T030000
TZNAME:CEST
TZOFFSETFROM:+0100
TZOFFSETTO:+0200
END:DAYLIGHT
END:VTIMEZONE
END:VCALENDAR
