BEGIN:VCALENDAR
VERSION:2.0
PRODID:-//Plone.org//NONSGML plone.app.event//EN
X-WR-TIMEZONE:Europe/Berlin
BEGIN:VEVENT
SUMMARY:Marburg Modul Sprechstunde - Portfolio als Prüfungsleistung
DTSTART;TZID=Europe/Berlin:20250424T123000
DTEND;TZID=Europe/Berlin:20250424T133000
DTSTAMP:20260425T051832Z
UID:fb883be726584fecaf6b594b8df62f28@www.uni-marburg.de
CREATED:20240827T101605Z
DESCRIPTION:https://www.uni-marburg.de/de/universitaet/lehre/studienstrukt
 ur/marskills/aktuelle/termine/copy_of_marburg-modul-sprechstunde-interdisz
 iplinaeres-teamteaching\nIn der Marburg Modul Sprechstunde können Sie sic
 h zu einem aktuellen Thema informieren und austauschen oder allgemein Antw
 orten zum Marburg Modul bekommen.
LAST-MODIFIED:20250402T191319Z
LOCATION:online https://webconf.hrz.uni-marburg.de/n/rooms/tmx-njg-gtu-t7x
 /join
URL:https://www.uni-marburg.de/de/universitaet/lehre/studienstruktur/marsk
 ills/aktuelle/termine/copy_of_marburg-modul-sprechstunde-interdisziplinaer
 es-teamteaching
END:VEVENT
BEGIN:VTIMEZONE
TZID:Europe/Berlin
X-LIC-LOCATION:Europe/Berlin
BEGIN:DAYLIGHT
DTSTART:20250330T030000
TZNAME:CEST
TZOFFSETFROM:+0100
TZOFFSETTO:+0200
END:DAYLIGHT
END:VTIMEZONE
END:VCALENDAR
