BEGIN:VCALENDAR
VERSION:2.0
PRODID:-//Plone.org//NONSGML plone.app.event//EN
X-WR-TIMEZONE:Europe/Berlin
BEGIN:VEVENT
SUMMARY:Marburg Modul Sprechstunde - Portfolio als Prüfungsleistung
DTSTART;TZID=Europe/Berlin:20251002T123000
DTEND;TZID=Europe/Berlin:20251002T133000
DTSTAMP:20260425T120255Z
UID:93b8464d2d1340d1b01738a933ae077d@www.uni-marburg.de
CREATED:20240827T103506Z
DESCRIPTION:https://www.uni-marburg.de/de/universitaet/lehre/studienstrukt
 ur/marskills/aktuelle/termine/copy_of_marburg-modul-sprechstunde-portfolio
 -als-pruefungsleistung\nIn der Marburg Modul Sprechstunde können Sie sich
  zu einem aktuellen Thema informieren und austauschen oder allgemein Antwo
 rten zum Marburg Modul bekommen.
LAST-MODIFIED:20250901T174549Z
LOCATION:online https://webconf.hrz.uni-marburg.de/n/rooms/tmx-njg-gtu-t7x
 /join
URL:https://www.uni-marburg.de/de/universitaet/lehre/studienstruktur/marsk
 ills/aktuelle/termine/copy_of_marburg-modul-sprechstunde-portfolio-als-pru
 efungsleistung
END:VEVENT
BEGIN:VTIMEZONE
TZID:Europe/Berlin
X-LIC-LOCATION:Europe/Berlin
BEGIN:DAYLIGHT
DTSTART:20250330T030000
TZNAME:CEST
TZOFFSETFROM:+0100
TZOFFSETTO:+0200
END:DAYLIGHT
END:VTIMEZONE
END:VCALENDAR
