BEGIN:VCALENDAR
VERSION:2.0
PRODID:-//Plone.org//NONSGML plone.app.event//EN
X-WR-TIMEZONE:Europe/Berlin
BEGIN:VEVENT
SUMMARY:Marburg Modul Sprechstunde - Projektankündigungen verfassen
DTSTART;TZID=Europe/Berlin:20250605T123000
DTEND;TZID=Europe/Berlin:20250605T133000
DTSTAMP:20260425T100912Z
UID:556cb21784374bb7b2fa401efd630440@www.uni-marburg.de
CREATED:20240827T105717Z
DESCRIPTION:https://www.uni-marburg.de/de/universitaet/lehre/studienstrukt
 ur/marskills/aktuelle/termine/copy_of_marburg-modul-sprechstunde-wie-laeuf
 ts\nIn der Marburg Modul Sprechstunde können Sie sich zu einem aktuellen 
 Thema informieren und austauschen oder allgemein Antworten zum Marburg Mod
 ul bekommen.
LAST-MODIFIED:20250402T183527Z
LOCATION:online https://webconf.hrz.uni-marburg.de/n/rooms/tmx-njg-gtu-t7x
 /join
URL:https://www.uni-marburg.de/de/universitaet/lehre/studienstruktur/marsk
 ills/aktuelle/termine/copy_of_marburg-modul-sprechstunde-wie-laeufts
END:VEVENT
BEGIN:VTIMEZONE
TZID:Europe/Berlin
X-LIC-LOCATION:Europe/Berlin
BEGIN:DAYLIGHT
DTSTART:20250330T030000
TZNAME:CEST
TZOFFSETFROM:+0100
TZOFFSETTO:+0200
END:DAYLIGHT
END:VTIMEZONE
END:VCALENDAR
