BEGIN:VCALENDAR
VERSION:2.0
PRODID:-//Plone.org//NONSGML plone.app.event//EN
X-WR-TIMEZONE:Europe/Berlin
BEGIN:VEVENT
SUMMARY:Marburg Modul – Projekteinreichung Deadline am 30.09.2022
DTSTART;VALUE=DATE:20220930
DTEND;VALUE=DATE:20221001
DTSTAMP:20260424T170439Z
UID:3da3b71dc77542d6926c636fa52875bf@www.uni-marburg.de
CREATED:20220307T151539Z
DESCRIPTION:https://www.uni-marburg.de/de/universitaet/lehre/studienstrukt
 ur/marskills/aktuelle/termine/copy_of_turn-conference-2022\nIm Rahmen des 
 MarSkills Studienbereich haben Lehrende und Studierende noch bis zum 30.09
 . Zeit\, ihre Projektidee einzureichen – sie kann jederzeit an marskills
 @uni-marburg.de gemailt werden.
LAST-MODIFIED:20241014T144239Z
LOCATION:Marburg
URL:https://www.uni-marburg.de/de/universitaet/lehre/studienstruktur/marsk
 ills/aktuelle/termine/copy_of_turn-conference-2022
END:VEVENT
END:VCALENDAR
