BEGIN:VCALENDAR
VERSION:2.0
PRODID:-//Plone.org//NONSGML plone.app.event//EN
X-WR-TIMEZONE:Europe/Berlin
BEGIN:VEVENT
SUMMARY:„Das neue Ding“ – Was ist eigentlich MarSkills und wie funkt
 ioniert das Marburg Modul? (Lahnberge Edition)
DTSTART;TZID=Europe/Berlin:20220629T123000
DTEND;TZID=Europe/Berlin:20220629T140000
DTSTAMP:20260425T224801Z
UID:fe69ca6c01c14a539801b5fdbe1f938b@www.uni-marburg.de
CREATED:20220524T131436Z
DESCRIPTION:https://www.uni-marburg.de/de/universitaet/lehre/studienstrukt
 ur/marskills/aktuelle/termine/das-neue-ding-was-ist-eigentlich-marskills-u
 nd-wie-funktioniert-das-marburg-modul-1\n
LAST-MODIFIED:20241014T144239Z
LOCATION:03C51 (SR XI C3) Hans-Meerwein-Straße 6\, Institutsgebäude (H |
  04)
URL:https://www.uni-marburg.de/de/universitaet/lehre/studienstruktur/marsk
 ills/aktuelle/termine/das-neue-ding-was-ist-eigentlich-marskills-und-wie-f
 unktioniert-das-marburg-modul-1
END:VEVENT
BEGIN:VTIMEZONE
TZID:Europe/Berlin
X-LIC-LOCATION:Europe/Berlin
BEGIN:DAYLIGHT
DTSTART:20220327T030000
TZNAME:CEST
TZOFFSETFROM:+0100
TZOFFSETTO:+0200
END:DAYLIGHT
END:VTIMEZONE
END:VCALENDAR
