BEGIN:VCALENDAR
VERSION:2.0
PRODID:-//Plone.org//NONSGML plone.app.event//EN
X-WR-TIMEZONE:Europe/Berlin
BEGIN:VEVENT
SUMMARY:„Das neue Ding“ – Was ist eigentlich MarSkills und wie funkt
 ioniert das Marburg Modul? (Lahntal Edition)
DTSTART;TZID=Europe/Berlin:20220621T123000
DTEND;TZID=Europe/Berlin:20220621T140000
DTSTAMP:20260424T231620Z
UID:5acd72c2a7ca4bd1b46a40758b354d0b@www.uni-marburg.de
CREATED:20220524T131145Z
DESCRIPTION:https://www.uni-marburg.de/de/universitaet/lehre/studienstrukt
 ur/marskills/aktuelle/termine/das-neue-ding-was-ist-eigentlich-marskills-u
 nd-wie-funktioniert-das-marburg-modul\n
LAST-MODIFIED:20241014T144239Z
LOCATION:00A16\, Deutschhausstraße 12\, Institutsgebäude (F | 14)
URL:https://www.uni-marburg.de/de/universitaet/lehre/studienstruktur/marsk
 ills/aktuelle/termine/das-neue-ding-was-ist-eigentlich-marskills-und-wie-f
 unktioniert-das-marburg-modul
END:VEVENT
BEGIN:VTIMEZONE
TZID:Europe/Berlin
X-LIC-LOCATION:Europe/Berlin
BEGIN:DAYLIGHT
DTSTART:20220327T030000
TZNAME:CEST
TZOFFSETFROM:+0100
TZOFFSETTO:+0200
END:DAYLIGHT
END:VTIMEZONE
END:VCALENDAR
