BEGIN:VCALENDAR
VERSION:2.0
PRODID:-//Plone.org//NONSGML plone.app.event//EN
X-WR-TIMEZONE:Europe/Berlin
BEGIN:VEVENT
SUMMARY:(Interdisziplinäres) Teamteaching
DTSTART;TZID=Europe/Berlin:20220928T100000
DTEND;TZID=Europe/Berlin:20220928T130000
DTSTAMP:20260424T004828Z
UID:02e20d3522d24d61b033b05f2436aed8@www.uni-marburg.de
ATTENDEE;CN="Dr. Katja Franz";ROLE=REQ-PARTICIPANT:Dr. Katja Franz
ATTENDEE;CN="Eva Maria Gauß";ROLE=REQ-PARTICIPANT:Eva Maria Gauß
CREATED:20220908T091435Z
DESCRIPTION:https://www.uni-marburg.de/de/universitaet/lehre/studienstrukt
 ur/marskills/aktuelle/termine/interdisziplinaeres-teamteaching\nWorkshop z
 ur Vorbereitung auf Ihre Rolle als Projektsponsorin oder Projektsponsor im
  Team im Marburg Modul
LAST-MODIFIED:20241014T144239Z
LOCATION:Raum +1/0010\, MARA MArburg University Research Academy\, Deutsch
 hausstraße 11-13\, 35037 Marburg
URL:https://www.uni-marburg.de/de/universitaet/lehre/studienstruktur/marsk
 ills/aktuelle/termine/interdisziplinaeres-teamteaching
END:VEVENT
BEGIN:VTIMEZONE
TZID:Europe/Berlin
X-LIC-LOCATION:Europe/Berlin
BEGIN:DAYLIGHT
DTSTART:20220327T030000
TZNAME:CEST
TZOFFSETFROM:+0100
TZOFFSETTO:+0200
END:DAYLIGHT
END:VTIMEZONE
END:VCALENDAR
