BEGIN:VCALENDAR
VERSION:2.0
PRODID:-//Plone.org//NONSGML plone.app.event//EN
X-WR-TIMEZONE:Europe/Berlin
BEGIN:VEVENT
SUMMARY:Marburg Modul Kolloquium
DTSTART;TZID=Europe/Berlin:20251212T140000
DTEND;TZID=Europe/Berlin:20251212T180000
DTSTAMP:20260425T222540Z
UID:c9009db11f2d41f9bffb320dcbb2339d@www.uni-marburg.de
CREATED:20250723T103653Z
DESCRIPTION:https://www.uni-marburg.de/de/universitaet/lehre/studienstrukt
 ur/marskills/aktuelle/termine/kolloquium-am-12-12-2025-von-14-bis-18-uhr-i
 m-deutschen-sprachatlas\n
LAST-MODIFIED:20250723T104359Z
LOCATION:Deutschen Sprachatlas
URL:https://www.uni-marburg.de/de/universitaet/lehre/studienstruktur/marsk
 ills/aktuelle/termine/kolloquium-am-12-12-2025-von-14-bis-18-uhr-im-deutsc
 hen-sprachatlas
END:VEVENT
BEGIN:VTIMEZONE
TZID:Europe/Berlin
X-LIC-LOCATION:Europe/Berlin
BEGIN:STANDARD
DTSTART:20251026T020000
TZNAME:CET
TZOFFSETFROM:+0200
TZOFFSETTO:+0100
END:STANDARD
END:VTIMEZONE
END:VCALENDAR
