BEGIN:VCALENDAR
VERSION:2.0
PRODID:-//Plone.org//NONSGML plone.app.event//EN
X-WR-TIMEZONE:Europe/Berlin
BEGIN:VEVENT
SUMMARY:Marburg Modul Sprechstunde - (Interdisziplinäres) Teamteaching
DTSTART;TZID=Europe/Berlin:20240905T123000
DTEND;TZID=Europe/Berlin:20240905T133000
DTSTAMP:20260425T041043Z
UID:723ec1a0971d40eaaa03919cfb692919@www.uni-marburg.de
CREATED:20240827T101605Z
DESCRIPTION:https://www.uni-marburg.de/de/universitaet/lehre/studienstrukt
 ur/marskills/aktuelle/termine/marburg-modul-sprechstunde-interdisziplinaer
 es-teamteaching\nIn der Marburg Modul Sprechstunde können Sie sich zu ein
 em aktuellen Thema informieren und austauschen oder allgemein Antworten zu
 m Marburg Modul bekommen.
LAST-MODIFIED:20241014T144240Z
LOCATION:online https://webconf.hrz.uni-marburg.de/n/rooms/tmx-njg-gtu-t7x
 /join
URL:https://www.uni-marburg.de/de/universitaet/lehre/studienstruktur/marsk
 ills/aktuelle/termine/marburg-modul-sprechstunde-interdisziplinaeres-teamt
 eaching
END:VEVENT
BEGIN:VTIMEZONE
TZID:Europe/Berlin
X-LIC-LOCATION:Europe/Berlin
BEGIN:DAYLIGHT
DTSTART:20240331T030000
TZNAME:CEST
TZOFFSETFROM:+0100
TZOFFSETTO:+0200
END:DAYLIGHT
END:VTIMEZONE
END:VCALENDAR
