BEGIN:VCALENDAR
VERSION:2.0
PRODID:-//Plone.org//NONSGML plone.app.event//EN
X-WR-TIMEZONE:Europe/Berlin
BEGIN:VEVENT
SUMMARY:Marburg Modul Sprechstunde - Wie läuft's?
DTSTART;TZID=Europe/Berlin:20241107T123000
DTEND;TZID=Europe/Berlin:20241107T133000
DTSTAMP:20260425T093532Z
UID:87114361b75f4344a87d01b82bcccbd0@www.uni-marburg.de
CREATED:20240827T105717Z
DESCRIPTION:https://www.uni-marburg.de/de/universitaet/lehre/studienstrukt
 ur/marskills/aktuelle/termine/marburg-modul-sprechstunde-wie-laeufts\nIn d
 er Marburg Modul Sprechstunde können Sie sich zu einem aktuellen Thema in
 formieren und austauschen oder allgemein Antworten zum Marburg Modul bekom
 men.
LAST-MODIFIED:20241014T144240Z
LOCATION:online https://webconf.hrz.uni-marburg.de/n/rooms/tmx-njg-gtu-t7x
 /join
URL:https://www.uni-marburg.de/de/universitaet/lehre/studienstruktur/marsk
 ills/aktuelle/termine/marburg-modul-sprechstunde-wie-laeufts
END:VEVENT
BEGIN:VTIMEZONE
TZID:Europe/Berlin
X-LIC-LOCATION:Europe/Berlin
BEGIN:STANDARD
DTSTART:20241027T020000
TZNAME:CET
TZOFFSETFROM:+0200
TZOFFSETTO:+0100
END:STANDARD
END:VTIMEZONE
END:VCALENDAR
