BEGIN:VCALENDAR
VERSION:2.0
PRODID:-//Plone.org//NONSGML plone.app.event//EN
X-WR-TIMEZONE:Europe/Berlin
BEGIN:VEVENT
SUMMARY:Marburg Modul Symposium
DTSTART;TZID=Europe/Berlin:20250213T180000
DTEND;TZID=Europe/Berlin:20250213T210000
DTSTAMP:20260424T183847Z
UID:90ed4d3bcb1c4fb5bd557d99539e4442@www.uni-marburg.de
CREATED:20250120T141015Z
DESCRIPTION:https://www.uni-marburg.de/de/universitaet/lehre/studienstrukt
 ur/marskills/aktuelle/termine/marburg-modul-symposium-1\nÖffentliche Prä
 sentation der Ergebnisse des Marburg Moduls 2024/25
LAST-MODIFIED:20250130T114355Z
LOCATION:DSA (Pilgrimstein 16)
URL:https://www.uni-marburg.de/de/universitaet/lehre/studienstruktur/marsk
 ills/aktuelle/termine/marburg-modul-symposium-1
END:VEVENT
BEGIN:VTIMEZONE
TZID:Europe/Berlin
X-LIC-LOCATION:Europe/Berlin
BEGIN:STANDARD
DTSTART:20241027T020000
TZNAME:CET
TZOFFSETFROM:+0200
TZOFFSETTO:+0100
END:STANDARD
END:VTIMEZONE
END:VCALENDAR
